BEGIN:VCALENDAR
VERSION:2.0
PRODID:-//Innovation Martlesham - ECPv6.6.4.2//NONSGML v1.0//EN
CALSCALE:GREGORIAN
METHOD:PUBLISH
X-WR-CALNAME:Innovation Martlesham
X-ORIGINAL-URL:https://innovationmartlesham.com
X-WR-CALDESC:Events for Innovation Martlesham
REFRESH-INTERVAL;VALUE=DURATION:PT1H
X-Robots-Tag:noindex
X-PUBLISHED-TTL:PT1H
BEGIN:VTIMEZONE
TZID:Europe/London
BEGIN:DAYLIGHT
TZOFFSETFROM:+0000
TZOFFSETTO:+0100
TZNAME:BST
DTSTART:20220327T010000
END:DAYLIGHT
BEGIN:STANDARD
TZOFFSETFROM:+0100
TZOFFSETTO:+0000
TZNAME:GMT
DTSTART:20221030T010000
END:STANDARD
END:VTIMEZONE
BEGIN:VEVENT
DTSTART;TZID=Europe/London:20221018T081500
DTEND;TZID=Europe/London:20221018T090000
DTSTAMP:20260419T154619
CREATED:20220728T122648Z
LAST-MODIFIED:20221018T114312Z
UID:5599-1666080900-1666083600@innovationmartlesham.com
SUMMARY:CATCH THE REPLAY: IM Breakfast Webinar with CGI
DESCRIPTION:REPLAY \nLibrary of past events: Innovation Martlesham -YouTube  \nInnovation Martlesham\, in association with TechEast\, would like to invite you to another Breakfast Networking WEBINAR Event with CGI entitled “CGI – Innovation in action” \nATTENDANCE IS BY REGISTRATION ONLY. \nPLEASE REGISTER by contacting jim.milne@innovationmartlesham.com and await further joining instructions. \nGuest speakers: \nAlan Nunn – Consulting Director at CGI\, Telecoms Expert \nDoug Hudson – Consulting Director at CGI\, working in our Space division \nCGI is among the largest IT and business consulting services firms in the world and works across multiple industries including Energy\, Utilities\, Health and care\, as well as Telecoms and Space and Defence. We will give an overview of the innovative 5-GENIUS project where we have applied skills from the space sector to develop a proof-of-concept hybrid navigation system using 5G signals and that Mobile Network Operators could offer as a value-added service to end users requiring more resilient positioning. \nPERSONAL PROFILE - Alan Nunn \n \nAlan has over 3 decades of experience in UK Telecoms\, having worked in various roles at BT and as CTO at Newport Networks. Through the years\, he has built great experience in developing business strategy and creating road maps for technology solutions to meet the most complex business challenges. \nAlan’s current role at CGI is to ensure that our capabilities are matched to the needs of our Communications clients\, and to build new solutions to support our clients’ changing requirements. Alan has co-authored “UK Telecoms For Dummies”\, an essential guide to the complicated UK Telecoms sector\, as part of CGI For Dummies Series. \nHe is a member of Ofcom Advisory Committee for England\, techUK Communications Infrastructure Council and chair of the the techUK Advanced Communications Services Working Group. \n  \nPERSONAL PROFILE - Doug Hudson \n \nDoug is a systems engineer\, software engineer\, and data scientist\, with significant experience in the specification\, design\, implementation and verification of high integrity systems. For the last 12 years he has been working in the domain of Global Navigation Satellite Systems (GNSS). He has presented at international conferences hosted by the Royal Institute of Navigation and the European Space Agency\, and is acknowledged as one of the foremost technical experts of satellite navigation within CGI. \nDoug’s current roles at CGI include building the foundations for a national GNSS threat monitoring capability\, and developing a proof-of-concept hybrid positioning system based on 5G and GNSS that aims to provide drones with the resilience and accuracy needed to navigate autonomously beyond the visual line of sight.
URL:https://innovationmartlesham.com/event/im-breakfast-webinar-with-cgi/
LOCATION:Webinar
CATEGORIES:IM Breakfast Speaker Webinar
ATTACH;FMTTYPE=image/png:https://innovationmartlesham.com/wp-content/uploads/2021/10/CGI_logo_1920x1080.png
END:VEVENT
END:VCALENDAR